Workbook

Sheet R5仕様書 別紙
C1: 別紙
A3: 予定月別使用量
C5: 単位：㎥
A6: 使 用 年 月 | B6: 使 用 量
A7: 令和５年１２月 | B7: ='R5入札説明書 別紙様式８ 内訳書'!G8 -> 4000
A8: 令和６年１月 | B8: ='R5入札説明書 別紙様式８ 内訳書'!G9 -> 4000
A9: 令和６年２月 | B9: ='R5入札説明書 別紙様式８ 内訳書'!G10 -> 4000
A10: 令和６年３月 | B10: ='R5入札説明書 別紙様式８ 内訳書'!G11 -> 2000
A11: 令和６年４月 | B11: ='R5入札説明書 別紙様式８ 内訳書'!G12 -> 700
A12: 令和６年５月 | B12: ='R5入札説明書 別紙様式８ 内訳書'!G13 -> 900
A13: 令和６年６月 | B13: ='R5入札説明書 別紙様式８ 内訳書'!G14 -> 7000
A14: 令和６年７月 | B14: ='R5入札説明書 別紙様式８ 内訳書'!G15 -> 12000
A15: 令和６年８月 | B15: ='R5入札説明書 別紙様式８ 内訳書'!G16 -> 17000
A16: 令和６年９月 | B16: ='R5入札説明書 別紙様式８ 内訳書'!G17 -> 15000
A17: 令和６年１０月 | B17: ='R5入札説明書 別紙様式８ 内訳書'!G18 -> 9000
A18: 令和６年１１月 | B18: ='R5入札説明書 別紙様式８ 内訳書'!G19 -> 12000
A19: 合計 | B19: =SUM(B7:B18) -> 87600
C21: 標準熱量：45MJ/㎥(10,750kcal/㎥)
A23: ※令和５年４～１１月は、宿泊研修の実施を見込んだガス使用量である。

Sheet R5入札説明書 別紙様式８ 内訳書
L1: 別紙様式８
I2: 法人名
I3: 代表者氏名 | L3: ㊞
B5: 内 訳 書
K6: （税抜）
B7: 使用年月 | C7: 基本料金 （Ａ） | E7: 従量単価 （Ｂ） | G7: 使用量 （Ｃ） | I7: 従量料金 (Ｄ)＝(Ｂ)×(Ｃ) | K7: 小計 （Ｅ）＝（Ａ）+（Ｄ）
B8: 令和５年１２月 | D8: 円 | F8: 円 | G8: 4000 | H8: ㎥ | I8: =ROUNDDOWN(E8*G8,0) -> 0 | J8: 円 | K8: =C8+I8 -> 0 | L8: 円
B9: 令和６年０１月 | D9: 円 | F9: 円 | G9: 4000 | H9: ㎥ | I9: =ROUNDDOWN(E9*G9,0) -> 0 | J9: 円 | K9: =C9+I9 -> 0 | L9: 円
B10: 令和６年０２月 | D10: 円 | F10: 円 | G10: 4000 | H10: ㎥ | I10: =ROUNDDOWN(E10*G10,0) -> 0 | J10: 円 | K10: =C10+I10 -> 0 | L10: 円
B11: 令和６年０３月 | D11: 円 | F11: 円 | G11: 2000 | H11: ㎥ | I11: =ROUNDDOWN(E11*G11,0) -> 0 | J11: 円 | K11: =C11+I11 -> 0 | L11: 円
B12: 令和６年０４月 | D12: 円 | F12: 円 | G12: 700 | H12: ㎥ | I12: =ROUNDDOWN(E12*G12,0) -> 0 | J12: 円 | K12: =C12+I12 -> 0 | L12: 円
B13: 令和６年０５月 | D13: 円 | F13: 円 | G13: 900 | H13: ㎥ | I13: =ROUNDDOWN(E13*G13,0) -> 0 | J13: 円 | K13: =C13+I13 -> 0 | L13: 円
B14: 令和６年０６月 | D14: 円 | F14: 円 | G14: 7000 | H14: ㎥ | I14: =ROUNDDOWN(E14*G14,0) -> 0 | J14: 円 | K14: =C14+I14 -> 0 | L14: 円
B15: 令和６年０７月 | D15: 円 | F15: 円 | G15: 12000 | H15: ㎥ | I15: =ROUNDDOWN(E15*G15,0) -> 0 | J15: 円 | K15: =C15+I15 -> 0 | L15: 円
B16: 令和６年０８月 | D16: 円 | F16: 円 | G16: 17000 | H16: ㎥ | I16: =ROUNDDOWN(E16*G16,0) -> 0 | J16: 円 | K16: =C16+I16 -> 0 | L16: 円
B17: 令和６年０９月 | D17: 円 | F17: 円 | G17: 15000 | H17: ㎥ | I17: =ROUNDDOWN(E17*G17,0) -> 0 | J17: 円 | K17: =C17+I17 -> 0 | L17: 円
B18: 令和６年１０月 | D18: 円 | F18: 円 | G18: 9000 | H18: ㎥ | I18: =ROUNDDOWN(E18*G18,0) -> 0 | J18: 円 | K18: =C18+I18 -> 0 | L18: 円
B19: 令和６年１１月 | D19: 円 | F19: 円 | G19: 12000 | H19: ㎥ | I19: =ROUNDDOWN(E19*G19,0) -> 0 | J19: 円 | K19: =C19+I19 -> 0 | L19: 円 | O19: 検算用
B20: 合計 | C20: =SUM(C8:C19) -> 0 | D20: 円 | G20: =SUM(G8:G19) -> 87600 | H20: ㎥ | I20: =SUM(I8:I19) -> 0 | J20: 円 | K20: =SUM(K8:K19) -> 0 | L20: 円 | O20: =C20+I20 -> 0 | P20: 円
H21: 都市ガスの標準熱量：45MJ/㎥(=10,750kcal/㎥)
E22: ﾒｶﾞｼﾞｭｰﾙ

Sheet R6仕様書 別紙
C1: 別紙
A3: 予定月別使用量
C5: 単位：㎥
A6: 使 用 年 月 | B6: 使 用 量
A7: 令和６年１２月 | B7: ='R6入札説明書 別紙様式８ 内訳書'!G8 -> 4000
A8: 令和７年１月 | B8: ='R6入札説明書 別紙様式８ 内訳書'!G9 -> 4000
A9: 令和７年２月 | B9: ='R6入札説明書 別紙様式８ 内訳書'!G10 -> 5000
A10: 令和７年３月 | B10: ='R6入札説明書 別紙様式８ 内訳書'!G11 -> 4000
A11: 令和７年４月 | B11: ='R6入札説明書 別紙様式８ 内訳書'!G12 -> 1000
A12: 令和７年５月 | B12: ='R6入札説明書 別紙様式８ 内訳書'!G13 -> 1000
A13: 令和７年６月 | B13: ='R6入札説明書 別紙様式８ 内訳書'!G14 -> 7000
A14: 令和７年７月 | B14: ='R6入札説明書 別紙様式８ 内訳書'!G15 -> 15000
A15: 令和７年８月 | B15: ='R6入札説明書 別紙様式８ 内訳書'!G16 -> 14000
A16: 令和７年９月 | B16: ='R6入札説明書 別紙様式８ 内訳書'!G17 -> 12000
A17: 令和７年１０月 | B17: ='R6入札説明書 別紙様式８ 内訳書'!G18 -> 6000
A18: 令和７年１１月 | B18: ='R6入札説明書 別紙様式８ 内訳書'!G19 -> 5000
A19: 合計 | B19: ='R6入札説明書 別紙様式８ 内訳書'!G20 -> 78000
C21: 標準熱量：45MJ/㎥(10,750kcal/㎥)
A23: ※令和５年４～１１月は、宿泊研修の実施を見込んだガス使用量である。

Sheet R6入札説明書 別紙様式８ 内訳書
L1: 別紙様式８
I2: 法人名
I3: 代表者氏名 | L3: ㊞
B5: 内 訳 書
K6: （税抜）
B7: 使用年月 | C7: 基本料金 （Ａ） | E7: 従量単価 （Ｂ） | G7: 使用量 （Ｃ） | I7: 従量料金 (Ｄ)＝(Ｂ)×(Ｃ) | K7: 小計 （Ｅ）＝（Ａ）+（Ｄ）
B8: 令和６年１２月 | D8: 円 | F8: 円 | G8: 4000 | H8: ㎥ | I8: =ROUNDDOWN(E8*G8,0) -> 0 | J8: 円 | K8: =C8+I8 -> 0 | L8: 円
B9: 令和７年０１月 | D9: 円 | F9: 円 | G9: 4000 | H9: ㎥ | I9: =ROUNDDOWN(E9*G9,0) -> 0 | J9: 円 | K9: =C9+I9 -> 0 | L9: 円
B10: 令和７年０２月 | D10: 円 | F10: 円 | G10: 5000 | H10: ㎥ | I10: =ROUNDDOWN(E10*G10,0) -> 0 | J10: 円 | K10: =C10+I10 -> 0 | L10: 円
B11: 令和７年０３月 | D11: 円 | F11: 円 | G11: 4000 | H11: ㎥ | I11: =ROUNDDOWN(E11*G11,0) -> 0 | J11: 円 | K11: =C11+I11 -> 0 | L11: 円
B12: 令和７年０４月 | D12: 円 | F12: 円 | G12: 1000 | H12: ㎥ | I12: =ROUNDDOWN(E12*G12,0) -> 0 | J12: 円 | K12: =C12+I12 -> 0 | L12: 円
B13: 令和７年０５月 | D13: 円 | F13: 円 | G13: 1000 | H13: ㎥ | I13: =ROUNDDOWN(E13*G13,0) -> 0 | J13: 円 | K13: =C13+I13 -> 0 | L13: 円
B14: 令和７年０６月 | D14: 円 | F14: 円 | G14: 7000 | H14: ㎥ | I14: =ROUNDDOWN(E14*G14,0) -> 0 | J14: 円 | K14: =C14+I14 -> 0 | L14: 円
B15: 令和７年０７月 | D15: 円 | F15: 円 | G15: 15000 | H15: ㎥ | I15: =ROUNDDOWN(E15*G15,0) -> 0 | J15: 円 | K15: =C15+I15 -> 0 | L15: 円
B16: 令和７年０８月 | D16: 円 | F16: 円 | G16: 14000 | H16: ㎥ | I16: =ROUNDDOWN(E16*G16,0) -> 0 | J16: 円 | K16: =C16+I16 -> 0 | L16: 円
B17: 令和７年０９月 | D17: 円 | F17: 円 | G17: 12000 | H17: ㎥ | I17: =ROUNDDOWN(E17*G17,0) -> 0 | J17: 円 | K17: =C17+I17 -> 0 | L17: 円
B18: 令和７年１０月 | D18: 円 | F18: 円 | G18: 6000 | H18: ㎥ | I18: =ROUNDDOWN(E18*G18,0) -> 0 | J18: 円 | K18: =C18+I18 -> 0 | L18: 円
B19: 令和７年１１月 | D19: 円 | F19: 円 | G19: 5000 | H19: ㎥ | I19: =ROUNDDOWN(E19*G19,0) -> 0 | J19: 円 | K19: =C19+I19 -> 0 | L19: 円 | O19: 検算用
B20: 合計 | C20: =SUM(C8:C19) -> 0 | D20: 円 | G20: =SUM(G8:G19) -> 78000 | H20: ㎥ | I20: =SUM(I8:I19) -> 0 | J20: 円 | K20: =SUM(K8:K19) -> 0 | L20: 円 | O20: =C20+I20 -> 0 | P20: 円
H21: 都市ガスの標準熱量：45MJ/㎥(=10,750kcal/㎥)
E22: ﾒｶﾞｼﾞｭｰﾙ

Sheet R8入札説明書 別紙様式7 内訳書 
L1: 別紙様式７
G2: 法人名
G3: 代表者氏名 | L3: ㊞
G4: 代理人氏名 | L4: ㊞
B6: 内 訳 書
K7: （税抜）
B8: 使用年月 | C8: 基本料金 （Ａ） | E8: 従量単価 （Ｂ） | G8: 使用量 （Ｃ） | I8: 従量料金 (Ｄ)＝(Ｂ)×(Ｃ) | K8: 小計 （Ｅ）＝（Ａ）+（Ｄ）
B9: 令和８年１２月 | D9: 円 | F9: 円 | G9: 5000 | H9: ㎥ | I9: =ROUNDDOWN(E9*G9,0) -> 0 | J9: 円 | K9: =C9+I9 -> 0 | L9: 円
B10: 令和９年１月 | D10: 円 | F10: 円 | G10: 5000 | H10: ㎥ | I10: =ROUNDDOWN(E10*G10,0) -> 0 | J10: 円 | K10: =C10+I10 -> 0 | L10: 円
B11: 令和９年２月 | D11: 円 | F11: 円 | G11: 5000 | H11: ㎥ | I11: =ROUNDDOWN(E11*G11,0) -> 0 | J11: 円 | K11: =C11+I11 -> 0 | L11: 円
B12: 令和９年３月 | D12: 円 | F12: 円 | G12: 4000 | H12: ㎥ | I12: =ROUNDDOWN(E12*G12,0) -> 0 | J12: 円 | K12: =C12+I12 -> 0 | L12: 円
B13: 令和９年４月 | D13: 円 | F13: 円 | G13: 1000 | H13: ㎥ | I13: =ROUNDDOWN(E13*G13,0) -> 0 | J13: 円 | K13: =C13+I13 -> 0 | L13: 円
B14: 令和９年５月 | D14: 円 | F14: 円 | G14: 1000 | H14: ㎥ | I14: =ROUNDDOWN(E14*G14,0) -> 0 | J14: 円 | K14: =C14+I14 -> 0 | L14: 円
B15: 令和９年６月 | D15: 円 | F15: 円 | G15: 8000 | H15: ㎥ | I15: =ROUNDDOWN(E15*G15,0) -> 0 | J15: 円 | K15: =C15+I15 -> 0 | L15: 円
B16: 令和９年７月 | D16: 円 | F16: 円 | G16: 13000 | H16: ㎥ | I16: =ROUNDDOWN(E16*G16,0) -> 0 | J16: 円 | K16: =C16+I16 -> 0 | L16: 円
B17: 令和９年８月 | D17: 円 | F17: 円 | G17: 13000 | H17: ㎥ | I17: =ROUNDDOWN(E17*G17,0) -> 0 | J17: 円 | K17: =C17+I17 -> 0 | L17: 円
B18: 令和９年９月 | D18: 円 | F18: 円 | G18: 11000 | H18: ㎥ | I18: =ROUNDDOWN(E18*G18,0) -> 0 | J18: 円 | K18: =C18+I18 -> 0 | L18: 円
B19: 令和９年１０月 | D19: 円 | F19: 円 | G19: 7000 | H19: ㎥ | I19: =ROUNDDOWN(E19*G19,0) -> 0 | J19: 円 | K19: =C19+I19 -> 0 | L19: 円
B20: 令和９年１１月 | D20: 円 | F20: 円 | G20: 9000 | H20: ㎥ | I20: =ROUNDDOWN(E20*G20,0) -> 0 | J20: 円 | K20: =C20+I20 -> 0 | L20: 円
... B24: 令和１０年３月 | D24: 円 | F24: 円 | G24: 4000 | H24: ㎥ | I24: =ROUNDDOWN(E24*G24,0) -> 0 | J24: 円 | K24: =C24+I24 -> 0 | L24: 円
B25: 合計 | C25: =SUM(C9:C20) -> 0 | D25: 円 | G25: =SUM(G9:G24) -> 101000 | H25: ㎥ | I25: =SUM(I9:I20) -> 0 | J25: 円 | K25: =SUM(K9:K20) -> 0 | L25: 円
